BEGIN:VCALENDAR
VERSION:2.0
PRODID:-//Go Fruita - ECPv6.15.20//NONSGML v1.0//EN
CALSCALE:GREGORIAN
METHOD:PUBLISH
X-ORIGINAL-URL:https://gofruita.com
X-WR-CALDESC:Events for Go Fruita
REFRESH-INTERVAL;VALUE=DURATION:PT1H
X-Robots-Tag:noindex
X-PUBLISHED-TTL:PT1H
BEGIN:VTIMEZONE
TZID:America/Denver
BEGIN:DAYLIGHT
TZOFFSETFROM:-0700
TZOFFSETTO:-0600
TZNAME:MDT
DTSTART:20230312T090000
END:DAYLIGHT
BEGIN:STANDARD
TZOFFSETFROM:-0600
TZOFFSETTO:-0700
TZNAME:MST
DTSTART:20231105T080000
END:STANDARD
BEGIN:DAYLIGHT
TZOFFSETFROM:-0700
TZOFFSETTO:-0600
TZNAME:MDT
DTSTART:20240310T090000
END:DAYLIGHT
BEGIN:STANDARD
TZOFFSETFROM:-0600
TZOFFSETTO:-0700
TZNAME:MST
DTSTART:20241103T080000
END:STANDARD
BEGIN:DAYLIGHT
TZOFFSETFROM:-0700
TZOFFSETTO:-0600
TZNAME:MDT
DTSTART:20250309T090000
END:DAYLIGHT
BEGIN:STANDARD
TZOFFSETFROM:-0600
TZOFFSETTO:-0700
TZNAME:MST
DTSTART:20251102T080000
END:STANDARD
END:VTIMEZONE
BEGIN:VEVENT
DTSTART;TZID=America/Denver:20241214T093000
DTEND;TZID=America/Denver:20241214T111500
DTSTAMP:20260423T151322
CREATED:20241202T181328Z
LAST-MODIFIED:20241202T181328Z
UID:10000186-1734168600-1734174900@gofruita.com
SUMMARY:Ugly Sweater Brew Run with Copper Club
DESCRIPTION:Wear your most festive or ugliest holiday gear and get ready for some magical winter fun! \nAfter a social 5k fun run enjoy seasonal brews\, hot chocolate\, music and a big ugly sweater contest benefiting Fruita Little League. \n$35 includes run entry\, craft brew or hot chocolate and a custom pint glass OR water bottle. Kids 12 and under run free! \nAbout our charity partner: \nFruita Little League is a non-profit organization that provides opportunities for youth baseball and softball players in Fruita. \nEvent Day Schedule:\nSaturday\, December 14th \n9:30am-10:15am:  Packet pickup on site\n10:15am: Ugly Sweater contest\n10:30am:  Run/walk start\n11:15am:  After party! Copper Club brews\, amazing grub and our famous “Beer Olympics” fitness games with Out West Training!
URL:https://gofruita.com/event/ugly-sweater-brew-run-with-copper-club/
LOCATION:Copper Club Brewery\, 153 N. Mulberry Street\, Fruita\, CO\, 81521\, United States
CATEGORIES:Run Event
ATTACH;FMTTYPE=image/jpeg:https://gofruita.com/wp-content/uploads/2024/12/48368881_1923645941065669_5938773325969883136_o.jpg
END:VEVENT
END:VCALENDAR